BEGIN:VCALENDAR
VERSION:2.0
PRODID:-//RIGHTHERE//CALENDARIZE IT V3.2//EN
BEGIN:VTIMEZONE
TZID:America/New_York
X-MICROSOFT-CDO-TZID:10
BEGIN:STANDARD
DTSTART:20251102T060000
TZOFFSETFROM:-0400
TZOFFSETTO:-0500
TZNAME:EST
END:STANDARD
BEGIN:DAYLIGHT
DTSTART:20260308T070000
TZOFFSETFROM:-0500
TZOFFSETTO:-0400
TZNAME:EDT
END:DAYLIGHT
BEGIN:STANDARD
DTSTART:20261101T060000
TZOFFSETFROM:-0400
TZOFFSETTO:-0500
TZNAME:EST
END:STANDARD
END:VTIMEZONE
BEGIN:VEVENT
UID:8386-events@roseninstitute.net
DTSTART;VALUE=DATE:20210925
DTEND;VALUE=DATE:20210927
DTSTAMP;TZID=America/New_York:20210706T144024
SUMMARY:Introductory Workshop – Charousse – Gigors et Lozeron\, in Drom
 e\, France
URL:https://roseninstitute.net/events/introductory-workshop-charousse-gigor
 s-et-lozeron-in-drome-france/
ORGANIZER;CN=Methode Rosen France:MAILTO:methoderosen@gmail.com
END:VEVENT
END:VCALENDAR