BEGIN:VCALENDAR
VERSION:2.0
PRODID:-//RIGHTHERE//CALENDARIZE IT V3.2//EN
BEGIN:VTIMEZONE
TZID:America/New_York
X-MICROSOFT-CDO-TZID:10
BEGIN:STANDARD
DTSTART:20251102T060000
TZOFFSETFROM:-0400
TZOFFSETTO:-0500
TZNAME:EST
END:STANDARD
BEGIN:DAYLIGHT
DTSTART:20260308T070000
TZOFFSETFROM:-0500
TZOFFSETTO:-0400
TZNAME:EDT
END:DAYLIGHT
BEGIN:STANDARD
DTSTART:20261101T060000
TZOFFSETFROM:-0400
TZOFFSETTO:-0500
TZNAME:EST
END:STANDARD
END:VTIMEZONE
BEGIN:VEVENT
UID:6673-events@roseninstitute.net
DTSTART;VALUE=DATE:20200223
DTEND;VALUE=DATE:20200301
DTSTAMP;TZID=America/New_York:20191118T140048
SUMMARY:Bodywork Intensive – Stockholm\, Sweden
URL:https://roseninstitute.net/events/bodywork-intensive-stockholm-sweden-4
 /
ORGANIZER;CN=HumaNova:MAILTO:info@humanova.com
END:VEVENT
END:VCALENDAR